BEGIN:VCALENDAR
VERSION:2.0
PRODID:-//Autorlando Sport - ECPv4.9.4//NONSGML v1.0//EN
CALSCALE:GREGORIAN
METHOD:PUBLISH
X-WR-CALNAME:Autorlando Sport
X-ORIGINAL-URL:https://bc2eb36dc5a1ca6108858.admin.hardypress.com/en/
X-WR-CALDESC:Events for Autorlando Sport
BEGIN:VTIMEZONE
TZID:"UTC"
BEGIN:STANDARD
TZOFFSETFROM:+0000
TZOFFSETTO:+0000
TZNAME:UTC
DTSTART:20210101T000000
END:STANDARD
END:VTIMEZONE
BEGIN:VEVENT
DTSTART;VALUE=DATE:20210709
DTEND;VALUE=DATE:20210712
DTSTAMP:20260420T141057
CREATED:20210120T162943Z
LAST-MODIFIED:20210120T162952Z
UID:6669-1625788800-1626047999@bc2eb36dc5a1ca6108858.admin.hardypress.com
SUMMARY:MUGELLO ENDURANCE
DESCRIPTION:GT ITALIANO ENDURANCE 2021 \n
URL:https://bc2eb36dc5a1ca6108858.admin.hardypress.com/en/gara/mugello-endurance/
LOCATION:Mugello Circuit\, Senni-San Carlo 15\, Scarperia e San Piero\, 50038\, Italy
END:VEVENT
END:VCALENDAR