BEGIN:VCALENDAR
VERSION:2.0
PRODID:-//Autorlando Sport - ECPv4.9.4//NONSGML v1.0//EN
CALSCALE:GREGORIAN
METHOD:PUBLISH
X-WR-CALNAME:Autorlando Sport
X-ORIGINAL-URL:https://bc2eb36dc5a1ca6108858.admin.hardypress.com/en/
X-WR-CALDESC:Events for Autorlando Sport
BEGIN:VTIMEZONE
TZID:"UTC"
BEGIN:STANDARD
TZOFFSETFROM:+0000
TZOFFSETTO:+0000
TZNAME:UTC
DTSTART:20210101T000000
END:STANDARD
END:VTIMEZONE
BEGIN:VEVENT
DTSTART;VALUE=DATE:20210903
DTEND;VALUE=DATE:20210906
DTSTAMP:20260420T141059
CREATED:20210120T164952Z
LAST-MODIFIED:20210120T165035Z
UID:6700-1630627200-1630886399@bc2eb36dc5a1ca6108858.admin.hardypress.com
SUMMARY:HOCKENHEIM RING SPRINT
DESCRIPTION:PORSCHE SPRINT CHALLENGE SUISSE 2021 \n
URL:https://bc2eb36dc5a1ca6108858.admin.hardypress.com/en/gara/hockenheim-ring-sprint/
LOCATION:HOCKENHEIM RING\, Am Motodrom\, Hockenheim\, Germany
END:VEVENT
END:VCALENDAR