BEGIN:VCALENDAR
VERSION:2.0
PRODID:-//Autorlando Sport - ECPv4.9.4//NONSGML v1.0//EN
CALSCALE:GREGORIAN
METHOD:PUBLISH
X-WR-CALNAME:Autorlando Sport
X-ORIGINAL-URL:https://bc2eb36dc5a1ca6108858.admin.hardypress.com/en/
X-WR-CALDESC:Events for Autorlando Sport
BEGIN:VTIMEZONE
TZID:"UTC"
BEGIN:STANDARD
TZOFFSETFROM:+0000
TZOFFSETTO:+0000
TZNAME:UTC
DTSTART:20210101T000000
END:STANDARD
END:VTIMEZONE
BEGIN:VEVENT
DTSTART;VALUE=DATE:20210702
DTEND;VALUE=DATE:20210705
DTSTAMP:20260420T141103
CREATED:20210120T170919Z
LAST-MODIFIED:20210120T170929Z
UID:6738-1625184000-1625443199@bc2eb36dc5a1ca6108858.admin.hardypress.com
SUMMARY:LE MANS
DESCRIPTION:CER 2021 \n
URL:https://bc2eb36dc5a1ca6108858.admin.hardypress.com/en/gara/le-mans/
LOCATION:Circuit de la Sarthe\, Circuit de la Sarthe\, Le Mans\, 72019\, France
END:VEVENT
END:VCALENDAR