BEGIN:VCALENDAR
VERSION:2.0
PRODID:-//Autorlando Sport - ECPv4.9.4//NONSGML v1.0//EN
CALSCALE:GREGORIAN
METHOD:PUBLISH
X-WR-CALNAME:Autorlando Sport
X-ORIGINAL-URL:https://bc2eb36dc5a1ca6108858.admin.hardypress.com
X-WR-CALDESC:Eventi per Autorlando Sport
BEGIN:VTIMEZONE
TZID:"UTC"
BEGIN:STANDARD
TZOFFSETFROM:+0000
TZOFFSETTO:+0000
TZNAME:UTC
DTSTART:20240101T000000
END:STANDARD
END:VTIMEZONE
BEGIN:VEVENT
DTSTART;VALUE=DATE:20241024
DTEND;VALUE=DATE:20241027
DTSTAMP:20260420T141136
CREATED:20240311T151009Z
LAST-MODIFIED:20240409T100114Z
UID:8781-1729728000-1729987199@bc2eb36dc5a1ca6108858.admin.hardypress.com
SUMMARY:Misano Porsche Sprint Challenge Suisse
DESCRIPTION:Misano Porsche Sprint Challenge Suisse \n
URL:https://bc2eb36dc5a1ca6108858.admin.hardypress.com/gara/rally-montecarlo-2-2-2-2-2-3-3-3-4-4-2-62-3-2-2-2-2-2-2-2-2-2-2-2-2-2-2-2-2-2-2-2-2-2-2-2/
LOCATION:Misano World Circuit Marco Simoncelli\, Viale Daijiro Kato 10\, Misano Adriatico\, 47843\, Italia
CATEGORIES:PORSCHE SPRINT CHALLENGE SUISSE
END:VEVENT
END:VCALENDAR