BEGIN:VCALENDAR
VERSION:2.0
PRODID:-//Autorlando Sport - ECPv4.9.4//NONSGML v1.0//EN
CALSCALE:GREGORIAN
METHOD:PUBLISH
X-WR-CALNAME:Autorlando Sport
X-ORIGINAL-URL:https://bc2eb36dc5a1ca6108858.admin.hardypress.com
X-WR-CALDESC:Eventi per Autorlando Sport
BEGIN:VTIMEZONE
TZID:"UTC"
BEGIN:STANDARD
TZOFFSETFROM:+0000
TZOFFSETTO:+0000
TZNAME:UTC
DTSTART:20210101T000000
END:STANDARD
END:VTIMEZONE
BEGIN:VEVENT
DTSTART;VALUE=DATE:20210618
DTEND;VALUE=DATE:20210621
DTSTAMP:20260420T141113
CREATED:20210128T081105Z
LAST-MODIFIED:20210201T084251Z
UID:6898-1623974400-1624233599@bc2eb36dc5a1ca6108858.admin.hardypress.com
SUMMARY:MISANO
DESCRIPTION:PERONI AUTOSTORICHE 2021 \n
URL:https://bc2eb36dc5a1ca6108858.admin.hardypress.com/gara/rally-montecarlo-2-2-2-2-2-3-3-3-4-4-2-36/
LOCATION:Misano World Circuit Marco Simoncelli\, Viale Daijiro Kato 10\, Misano Adriatico\, 47843\, Italia
CATEGORIES:PERONI AUTOSTORICHE
END:VEVENT
END:VCALENDAR