BEGIN:VCALENDAR
VERSION:2.0
PRODID:-//Autorlando Sport - ECPv4.9.4//NONSGML v1.0//EN
CALSCALE:GREGORIAN
METHOD:PUBLISH
X-WR-CALNAME:Autorlando Sport
X-ORIGINAL-URL:https://bc2eb36dc5a1ca6108858.admin.hardypress.com/en/
X-WR-CALDESC:Events for Autorlando Sport
BEGIN:VTIMEZONE
TZID:"UTC"
BEGIN:STANDARD
TZOFFSETFROM:+0000
TZOFFSETTO:+0000
TZNAME:UTC
DTSTART:20210101T000000
END:STANDARD
END:VTIMEZONE
BEGIN:VEVENT
DTSTART;VALUE=DATE:20210514
DTEND;VALUE=DATE:20210517
DTSTAMP:20260420T141104
CREATED:20210120T171332Z
LAST-MODIFIED:20210120T171339Z
UID:6748-1620950400-1621209599@bc2eb36dc5a1ca6108858.admin.hardypress.com
SUMMARY:SPA
DESCRIPTION:ENDURANCE RACING LEGEND 2021 \n
URL:https://bc2eb36dc5a1ca6108858.admin.hardypress.com/en/gara/spa-3/
LOCATION:Circuit National de Francorchamps\, Route du Circuit 55\, Stavelot\, Belgium
END:VEVENT
END:VCALENDAR