BEGIN:VCALENDAR
VERSION:2.0
PRODID:-//Autorlando Sport - ECPv4.9.4//NONSGML v1.0//EN
CALSCALE:GREGORIAN
METHOD:PUBLISH
X-WR-CALNAME:Autorlando Sport
X-ORIGINAL-URL:https://bc2eb36dc5a1ca6108858.admin.hardypress.com/en/
X-WR-CALDESC:Events for Autorlando Sport
BEGIN:VTIMEZONE
TZID:"UTC"
BEGIN:STANDARD
TZOFFSETFROM:+0000
TZOFFSETTO:+0000
TZNAME:UTC
DTSTART:20210101T000000
END:STANDARD
END:VTIMEZONE
BEGIN:VEVENT
DTSTART;VALUE=DATE:20211001
DTEND;VALUE=DATE:20211004
DTSTAMP:20260420T141102
CREATED:20210120T170253Z
LAST-MODIFIED:20210120T170253Z
UID:6727-1633046400-1633305599@bc2eb36dc5a1ca6108858.admin.hardypress.com
SUMMARY:MONZA
DESCRIPTION:PERONI AUTOSTORICHE 2021 \n
URL:https://bc2eb36dc5a1ca6108858.admin.hardypress.com/en/gara/monza-4/
END:VEVENT
END:VCALENDAR