BEGIN:VCALENDAR
VERSION:2.0
PRODID:-//Autorlando Sport - ECPv4.9.4//NONSGML v1.0//EN
CALSCALE:GREGORIAN
METHOD:PUBLISH
X-WR-CALNAME:Autorlando Sport
X-ORIGINAL-URL:https://bc2eb36dc5a1ca6108858.admin.hardypress.com/en/
X-WR-CALDESC:Events for Autorlando Sport
BEGIN:VTIMEZONE
TZID:"UTC"
BEGIN:STANDARD
TZOFFSETFROM:+0000
TZOFFSETTO:+0000
TZNAME:UTC
DTSTART:20210101T000000
END:STANDARD
END:VTIMEZONE
BEGIN:VEVENT
DTSTART;VALUE=DATE:20210910
DTEND;VALUE=DATE:20210913
DTSTAMP:20260420T141100
CREATED:20210120T165616Z
LAST-MODIFIED:20210120T165621Z
UID:6711-1631232000-1631491199@bc2eb36dc5a1ca6108858.admin.hardypress.com
SUMMARY:ADRIA
DESCRIPTION:PERONI COPPA ITALIA GT CLUB 2021 \n
URL:https://bc2eb36dc5a1ca6108858.admin.hardypress.com/en/gara/adria/
LOCATION:Adria\, Italy
END:VEVENT
END:VCALENDAR