BEGIN:VCALENDAR
VERSION:2.0
PRODID:-//Autorlando Sport - ECPv4.9.4//NONSGML v1.0//EN
CALSCALE:GREGORIAN
METHOD:PUBLISH
X-WR-CALNAME:Autorlando Sport
X-ORIGINAL-URL:https://bc2eb36dc5a1ca6108858.admin.hardypress.com/en/
X-WR-CALDESC:Events for Autorlando Sport
BEGIN:VTIMEZONE
TZID:"UTC"
BEGIN:STANDARD
TZOFFSETFROM:+0000
TZOFFSETTO:+0000
TZNAME:UTC
DTSTART:20210101T000000
END:STANDARD
END:VTIMEZONE
BEGIN:VEVENT
DTSTART;VALUE=DATE:20210416
DTEND;VALUE=DATE:20210419
DTSTAMP:20260420T141054
CREATED:20210120T160251Z
LAST-MODIFIED:20210120T160257Z
UID:6634-1618531200-1618790399@bc2eb36dc5a1ca6108858.admin.hardypress.com
SUMMARY:44° RALLY 1000 MIGLIA CIR
DESCRIPTION:RALLY CIR 2021 + \n
URL:https://bc2eb36dc5a1ca6108858.admin.hardypress.com/en/gara/44-rally-1000-miglia-cir/
LOCATION:Brescia\, Italy
END:VEVENT
END:VCALENDAR