BEGIN:VCALENDAR
VERSION:2.0
PRODID:-//Autorlando Sport - ECPv4.9.4//NONSGML v1.0//EN
CALSCALE:GREGORIAN
METHOD:PUBLISH
X-WR-CALNAME:Autorlando Sport
X-ORIGINAL-URL:https://bc2eb36dc5a1ca6108858.admin.hardypress.com/en/
X-WR-CALDESC:Events for Autorlando Sport
BEGIN:VTIMEZONE
TZID:"UTC"
BEGIN:STANDARD
TZOFFSETFROM:+0000
TZOFFSETTO:+0000
TZNAME:UTC
DTSTART:20210101T000000
END:STANDARD
END:VTIMEZONE
BEGIN:VEVENT
DTSTART;VALUE=DATE:20210430
DTEND;VALUE=DATE:20210503
DTSTAMP:20260420T141056
CREATED:20210120T161127Z
LAST-MODIFIED:20210120T162006Z
UID:6652-1619740800-1619999999@bc2eb36dc5a1ca6108858.admin.hardypress.com
SUMMARY:MONZA SPRINT
DESCRIPTION:GT ITALIANO SPRINT 2021 \n
URL:https://bc2eb36dc5a1ca6108858.admin.hardypress.com/en/gara/11-tuscan-rewind-cir/
LOCATION:Monza\, Viale di Vedano\, 5\, Monza\, 20900\, Italy
END:VEVENT
END:VCALENDAR