BEGIN:VCALENDAR
VERSION:2.0
PRODID:-//Autorlando Sport - ECPv4.9.4//NONSGML v1.0//EN
CALSCALE:GREGORIAN
METHOD:PUBLISH
X-WR-CALNAME:Autorlando Sport
X-ORIGINAL-URL:https://bc2eb36dc5a1ca6108858.admin.hardypress.com/en/
X-WR-CALDESC:Events for Autorlando Sport
BEGIN:VTIMEZONE
TZID:"UTC"
BEGIN:STANDARD
TZOFFSETFROM:+0000
TZOFFSETTO:+0000
TZNAME:UTC
DTSTART:20210101T000000
END:STANDARD
END:VTIMEZONE
BEGIN:VEVENT
DTSTART;VALUE=DATE:20210716
DTEND;VALUE=DATE:20210719
DTSTAMP:20260420T141059
CREATED:20210120T164818Z
LAST-MODIFIED:20210120T164828Z
UID:6698-1626393600-1626652799@bc2eb36dc5a1ca6108858.admin.hardypress.com
SUMMARY:IMOLA SPRINT + END
DESCRIPTION:PORSCHE SPRINT CHALLENGE SUISSE 2021 \n
URL:https://bc2eb36dc5a1ca6108858.admin.hardypress.com/en/gara/imola-sprint-end/
LOCATION:Imola\, iazza Ayrton Senna da Silva\, 1\, Imola\, 40026\, Italy
END:VEVENT
END:VCALENDAR