BEGIN:VCALENDAR
VERSION:2.0
PRODID:-//Autorlando Sport - ECPv4.9.4//NONSGML v1.0//EN
CALSCALE:GREGORIAN
METHOD:PUBLISH
X-WR-CALNAME:Autorlando Sport
X-ORIGINAL-URL:https://bc2eb36dc5a1ca6108858.admin.hardypress.com/en/
X-WR-CALDESC:Events for Autorlando Sport
BEGIN:VTIMEZONE
TZID:"UTC"
BEGIN:STANDARD
TZOFFSETFROM:+0000
TZOFFSETTO:+0000
TZNAME:UTC
DTSTART:20210101T000000
END:STANDARD
END:VTIMEZONE
BEGIN:VEVENT
DTSTART;VALUE=DATE:20211008
DTEND;VALUE=DATE:20211011
DTSTAMP:20260420T141055
CREATED:20210120T161011Z
LAST-MODIFIED:20210120T161017Z
UID:6649-1633651200-1633910399@bc2eb36dc5a1ca6108858.admin.hardypress.com
SUMMARY:38° RALLY 2 VALLI CIR
DESCRIPTION:RALLY CIR 2021 + \n
URL:https://bc2eb36dc5a1ca6108858.admin.hardypress.com/en/gara/38-rally-2-valli-cir/
LOCATION:Verona\, Italy
END:VEVENT
END:VCALENDAR