BEGIN:VCALENDAR
VERSION:2.0
PRODID:-//Autorlando Sport - ECPv4.9.4//NONSGML v1.0//EN
CALSCALE:GREGORIAN
METHOD:PUBLISH
X-WR-CALNAME:Autorlando Sport
X-ORIGINAL-URL:https://bc2eb36dc5a1ca6108858.admin.hardypress.com/en/
X-WR-CALDESC:Events for Autorlando Sport
BEGIN:VTIMEZONE
TZID:"UTC"
BEGIN:STANDARD
TZOFFSETFROM:+0000
TZOFFSETTO:+0000
TZNAME:UTC
DTSTART:20210101T000000
END:STANDARD
END:VTIMEZONE
BEGIN:VEVENT
DTSTART;VALUE=DATE:20210625
DTEND;VALUE=DATE:20210628
DTSTAMP:20260420T141105
CREATED:20210120T171938Z
LAST-MODIFIED:20210120T171938Z
UID:6759-1624579200-1624838399@bc2eb36dc5a1ca6108858.admin.hardypress.com
SUMMARY:SILVERSTONE
DESCRIPTION:REBELLION PORSCHE GT3 R 2021 \n
URL:https://bc2eb36dc5a1ca6108858.admin.hardypress.com/en/gara/silverstone/
LOCATION:Circuito di Silverstone\, Towcester NN12 8TN\, United States
END:VEVENT
END:VCALENDAR