BEGIN:VCALENDAR
VERSION:2.0
PRODID:-//Autorlando Sport - ECPv4.9.4//NONSGML v1.0//EN
CALSCALE:GREGORIAN
METHOD:PUBLISH
X-WR-CALNAME:Autorlando Sport
X-ORIGINAL-URL:https://bc2eb36dc5a1ca6108858.admin.hardypress.com/en/
X-WR-CALDESC:Events for Autorlando Sport
BEGIN:VTIMEZONE
TZID:"UTC"
BEGIN:STANDARD
TZOFFSETFROM:+0000
TZOFFSETTO:+0000
TZNAME:UTC
DTSTART:20210101T000000
END:STANDARD
END:VTIMEZONE
BEGIN:VEVENT
DTSTART;VALUE=DATE:20210416
DTEND;VALUE=DATE:20210419
DTSTAMP:20260420T141057
CREATED:20210120T163454Z
LAST-MODIFIED:20210120T163454Z
UID:6678-1618531200-1618790399@bc2eb36dc5a1ca6108858.admin.hardypress.com
SUMMARY:MONZA
DESCRIPTION:EUPOEAN GT4 NORD 2021 \n
URL:https://bc2eb36dc5a1ca6108858.admin.hardypress.com/en/gara/monza/
LOCATION:Autodromo Nazionale Monza\, Viale di Vedano\, 5\, Monza\, 20900\, Italy
END:VEVENT
END:VCALENDAR