BEGIN:VCALENDAR
VERSION:2.0
PRODID:-//Autorlando Sport - ECPv4.9.4//NONSGML v1.0//EN
CALSCALE:GREGORIAN
METHOD:PUBLISH
X-WR-CALNAME:Autorlando Sport
X-ORIGINAL-URL:https://bc2eb36dc5a1ca6108858.admin.hardypress.com/en/
X-WR-CALDESC:Events for Autorlando Sport
BEGIN:VTIMEZONE
TZID:"UTC"
BEGIN:STANDARD
TZOFFSETFROM:+0000
TZOFFSETTO:+0000
TZNAME:UTC
DTSTART:20210101T000000
END:STANDARD
END:VTIMEZONE
BEGIN:VEVENT
DTSTART;VALUE=DATE:20210422
DTEND;VALUE=DATE:20210424
DTSTAMP:20260420T141058
CREATED:20210120T164456Z
LAST-MODIFIED:20210120T164502Z
UID:6693-1619049600-1619222399@bc2eb36dc5a1ca6108858.admin.hardypress.com
SUMMARY:RED BULL RING SPRINT
DESCRIPTION:PORSCHE SPRINT CHALLENGE SUISSE 2021 \n
URL:https://bc2eb36dc5a1ca6108858.admin.hardypress.com/en/gara/red-bull-ring-sprint/
LOCATION:Red Bull Ring\, Red Bull Ring Str. 1\, Spielberg\, 8724\, Austria
END:VEVENT
END:VCALENDAR