BEGIN:VCALENDAR
VERSION:2.0
PRODID:-//Autorlando Sport - ECPv4.9.4//NONSGML v1.0//EN
CALSCALE:GREGORIAN
METHOD:PUBLISH
X-WR-CALNAME:Autorlando Sport
X-ORIGINAL-URL:https://bc2eb36dc5a1ca6108858.admin.hardypress.com
X-WR-CALDESC:Eventi per Autorlando Sport
BEGIN:VTIMEZONE
TZID:"UTC"
BEGIN:STANDARD
TZOFFSETFROM:+0000
TZOFFSETTO:+0000
TZNAME:UTC
DTSTART:20240101T000000
END:STANDARD
END:VTIMEZONE
BEGIN:VEVENT
DTSTART;VALUE=DATE:20240927
DTEND;VALUE=DATE:20240930
DTSTAMP:20260409T151150
CREATED:20240311T142238Z
LAST-MODIFIED:20240311T142238Z
UID:8743-1727395200-1727654399@bc2eb36dc5a1ca6108858.admin.hardypress.com
SUMMARY:62° Alghero Scala Piccada
DESCRIPTION:62° Alghero Scala Piccada \n
URL:https://bc2eb36dc5a1ca6108858.admin.hardypress.com/gara/rally-montecarlo-2-2-2-2-2-3-3-3-4-4-2-62-3-2-2-2-2-2-2-2-2-2-2/
LOCATION:Alghero\, Alghero\, SS\, 07041\, Italia
CATEGORIES:CIVM NORD
END:VEVENT
END:VCALENDAR