BEGIN:VCALENDAR
VERSION:2.0
PRODID:-//Autorlando Sport - ECPv4.9.4//NONSGML v1.0//EN
CALSCALE:GREGORIAN
METHOD:PUBLISH
X-WR-CALNAME:Autorlando Sport
X-ORIGINAL-URL:https://bc2eb36dc5a1ca6108858.admin.hardypress.com/en/
X-WR-CALDESC:Events for Autorlando Sport
BEGIN:VTIMEZONE
TZID:"UTC"
BEGIN:STANDARD
TZOFFSETFROM:+0000
TZOFFSETTO:+0000
TZNAME:UTC
DTSTART:20210101T000000
END:STANDARD
END:VTIMEZONE
BEGIN:VEVENT
DTSTART;VALUE=DATE:20210521
DTEND;VALUE=DATE:20210524
DTSTAMP:20260420T141107
CREATED:20210121T092102Z
LAST-MODIFIED:20210121T092110Z
UID:6771-1621555200-1621814399@bc2eb36dc5a1ca6108858.admin.hardypress.com
SUMMARY:12H HOCKENHEIMRING
DESCRIPTION:CREVENTIC EUROPEAN TCE 2021 \n
URL:https://bc2eb36dc5a1ca6108858.admin.hardypress.com/en/gara/12h-hockenheimring/
LOCATION:HOCKENHEIM RING\, Am Motodrom\, Hockenheim\, Germany
END:VEVENT
END:VCALENDAR